BEGIN:VCALENDAR
VERSION:2.0
PRODID:-//MackayMemorialCollege - ECPv6.3.7//NONSGML v1.0//EN
CALSCALE:GREGORIAN
METHOD:PUBLISH
X-ORIGINAL-URL:https://mackaycollege.sc.ug
X-WR-CALDESC:Events for MackayMemorialCollege
REFRESH-INTERVAL;VALUE=DURATION:PT1H
X-Robots-Tag:noindex
X-PUBLISHED-TTL:PT1H
BEGIN:VTIMEZONE
TZID:UTC
BEGIN:STANDARD
TZOFFSETFROM:+0000
TZOFFSETTO:+0000
TZNAME:UTC
DTSTART:20240101T000000
END:STANDARD
END:VTIMEZONE
BEGIN:VEVENT
DTSTART;TZID=UTC:20240708T080000
DTEND;TZID=UTC:20240708T170000
DTSTAMP:20260424T064211
CREATED:20240406T190558Z
LAST-MODIFIED:20240702T210145Z
UID:1640-1720425600-1720458000@mackaycollege.sc.ug
SUMMARY:Charity  Day
DESCRIPTION:
URL:https://mackaycollege.sc.ug/event/class-day-senior-4/
LOCATION:School
CATEGORIES:Workshops
ATTACH;FMTTYPE=image/png:https://mackaycollege.sc.ug/wp-content/uploads/2024/04/Untitled-design-7.png
END:VEVENT
END:VCALENDAR